BEGIN:VCALENDAR
VERSION:2.0
PRODID:-//AIA-IC - ECPv6.15.20//NONSGML v1.0//EN
CALSCALE:GREGORIAN
METHOD:PUBLISH
X-WR-CALNAME:AIA-IC
X-ORIGINAL-URL:https://aiaic.org
X-WR-CALDESC:Events for AIA-IC
REFRESH-INTERVAL;VALUE=DURATION:PT1H
X-Robots-Tag:noindex
X-PUBLISHED-TTL:PT1H
BEGIN:VTIMEZONE
TZID:America/Los_Angeles
BEGIN:DAYLIGHT
TZOFFSETFROM:-0800
TZOFFSETTO:-0700
TZNAME:PDT
DTSTART:20240310T100000
END:DAYLIGHT
BEGIN:STANDARD
TZOFFSETFROM:-0700
TZOFFSETTO:-0800
TZNAME:PST
DTSTART:20241103T090000
END:STANDARD
BEGIN:DAYLIGHT
TZOFFSETFROM:-0800
TZOFFSETTO:-0700
TZNAME:PDT
DTSTART:20250309T100000
END:DAYLIGHT
BEGIN:STANDARD
TZOFFSETFROM:-0700
TZOFFSETTO:-0800
TZNAME:PST
DTSTART:20251102T090000
END:STANDARD
BEGIN:DAYLIGHT
TZOFFSETFROM:-0800
TZOFFSETTO:-0700
TZNAME:PDT
DTSTART:20260308T100000
END:DAYLIGHT
BEGIN:STANDARD
TZOFFSETFROM:-0700
TZOFFSETTO:-0800
TZNAME:PST
DTSTART:20261101T090000
END:STANDARD
END:VTIMEZONE
BEGIN:VEVENT
DTSTART;TZID=America/Los_Angeles:20250920T090000
DTEND;TZID=America/Los_Angeles:20250920T120000
DTSTAMP:20260422T121249
CREATED:20250915T180416Z
LAST-MODIFIED:20250915T181317Z
UID:14843-1758358800-1758369600@aiaic.org
SUMMARY:ARE - PREP Professional Development Series (#1 of 8)
DESCRIPTION:You are invited to the first of eight free ARE Prep Series Lectures. We kindly ask that you RSVP using the link provided. This program is organized by EPIC and generously hosted by HMC Architects. Please RSVP using https://conta.cc/4gbEiom
URL:https://aiaic.org/event/are-prep-professional-development-series-1-of-8/
LOCATION:HMC Architects\, 3546 Concourse Street\, Ontario\, CA\, 91764\, United States
CATEGORIES:A.R.E. Prep,A.R.E. Study Group,AIA,AIA California,AIA California Desert Chapter,Event
ATTACH;FMTTYPE=image/png:https://aiaic.org/wp-content/uploads/2025/09/Practice-Management-Instagram-Post-45.png
ORGANIZER;CN="EPIC with HMC Architects":MAILTO:director@aiaic.org
END:VEVENT
END:VCALENDAR