BEGIN:VCALENDAR
VERSION:2.0
PRODID:-//AIA-IC - ECPv6.15.20//NONSGML v1.0//EN
CALSCALE:GREGORIAN
METHOD:PUBLISH
X-WR-CALNAME:AIA-IC
X-ORIGINAL-URL:https://aiaic.org
X-WR-CALDESC:Events for AIA-IC
REFRESH-INTERVAL;VALUE=DURATION:PT1H
X-Robots-Tag:noindex
X-PUBLISHED-TTL:PT1H
BEGIN:VTIMEZONE
TZID:America/Los_Angeles
BEGIN:DAYLIGHT
TZOFFSETFROM:-0800
TZOFFSETTO:-0700
TZNAME:PDT
DTSTART:20250309T100000
END:DAYLIGHT
BEGIN:STANDARD
TZOFFSETFROM:-0700
TZOFFSETTO:-0800
TZNAME:PST
DTSTART:20251102T090000
END:STANDARD
BEGIN:DAYLIGHT
TZOFFSETFROM:-0800
TZOFFSETTO:-0700
TZNAME:PDT
DTSTART:20260308T100000
END:DAYLIGHT
BEGIN:STANDARD
TZOFFSETFROM:-0700
TZOFFSETTO:-0800
TZNAME:PST
DTSTART:20261101T090000
END:STANDARD
BEGIN:DAYLIGHT
TZOFFSETFROM:-0800
TZOFFSETTO:-0700
TZNAME:PDT
DTSTART:20270314T100000
END:DAYLIGHT
BEGIN:STANDARD
TZOFFSETFROM:-0700
TZOFFSETTO:-0800
TZNAME:PST
DTSTART:20271107T090000
END:STANDARD
END:VTIMEZONE
BEGIN:VEVENT
DTSTART;TZID=America/Los_Angeles:20260117T090000
DTEND;TZID=America/Los_Angeles:20260117T120000
DTSTAMP:20260422T045542
CREATED:20251229T162624Z
LAST-MODIFIED:20251229T162824Z
UID:14906-1768640400-1768651200@aiaic.org
SUMMARY:ARE - PREP Professional Development Series (#4 of 7)
DESCRIPTION:The next ARE-PREP course is happening January 17th at Higginson Architects. This isn’t just another study group; it’s a focused\, strategic prep experience designed to get you exam-ready. Don’t sleep on this opportunity.\nSecure your spot and share this with your network\, someone you know is probably prepping too.
URL:https://aiaic.org/event/are-prep-professional-development-series-4-of-7/
LOCATION:CA
CATEGORIES:A.R.E. Prep,A.R.E. Study Group,AIA,AIA California,AIA California Desert Chapter,Event
ATTACH;FMTTYPE=image/png:https://aiaic.org/wp-content/uploads/2025/12/CSE-Intagram-Post.png
ORGANIZER;CN="EPIC with Higginson Architects":MAILTO:director@aiaic.org
END:VEVENT
END:VCALENDAR