BEGIN:VCALENDAR
VERSION:2.0
PRODID:-//AIA-IC - ECPv6.15.20//NONSGML v1.0//EN
CALSCALE:GREGORIAN
METHOD:PUBLISH
X-ORIGINAL-URL:https://aiaic.org
X-WR-CALDESC:Events for AIA-IC
REFRESH-INTERVAL;VALUE=DURATION:PT1H
X-Robots-Tag:noindex
X-PUBLISHED-TTL:PT1H
BEGIN:VTIMEZONE
TZID:America/Los_Angeles
BEGIN:DAYLIGHT
TZOFFSETFROM:-0800
TZOFFSETTO:-0700
TZNAME:PDT
DTSTART:20240310T100000
END:DAYLIGHT
BEGIN:STANDARD
TZOFFSETFROM:-0700
TZOFFSETTO:-0800
TZNAME:PST
DTSTART:20241103T090000
END:STANDARD
BEGIN:DAYLIGHT
TZOFFSETFROM:-0800
TZOFFSETTO:-0700
TZNAME:PDT
DTSTART:20250309T100000
END:DAYLIGHT
BEGIN:STANDARD
TZOFFSETFROM:-0700
TZOFFSETTO:-0800
TZNAME:PST
DTSTART:20251102T090000
END:STANDARD
BEGIN:DAYLIGHT
TZOFFSETFROM:-0800
TZOFFSETTO:-0700
TZNAME:PDT
DTSTART:20260308T100000
END:DAYLIGHT
BEGIN:STANDARD
TZOFFSETFROM:-0700
TZOFFSETTO:-0800
TZNAME:PST
DTSTART:20261101T090000
END:STANDARD
END:VTIMEZONE
BEGIN:VEVENT
DTSTART;TZID=America/Los_Angeles:20250419T100000
DTEND;TZID=America/Los_Angeles:20250419T120000
DTSTAMP:20260421T131914
CREATED:20250415T152158Z
LAST-MODIFIED:20250415T152307Z
UID:14753-1745056800-1745064000@aiaic.org
SUMMARY:SAC Health Brier Campus Tour
DESCRIPTION:       \nIn collaboration with AIA Los Angeles\, AIA Inland California is pleased to offer this event which offers AIA CES: 2LU|HSW \nSAC Health Brier Medical is a 280\,000 SF adaptive reuse outpatient facility in San Bernardino\, CA. As the nation’s largest specialty-based and teaching health center\, it advances health equity for underserved populations. Phase 1 includes 6 clinics\, dental school\, after-hours clinic with imaging\, and a community resource center. The project reused the former bank call center’s core systems to reduce its carbon footprint. AIA CES: 2 LU|HSW. Topics: adaptive reuse\, sustainability\, health equity\, and design for specialty teaching institutions.
URL:https://aiaic.org/event/sac-health-brier-campus-tour/
LOCATION:SAC Health Brier Campus Tour\, 1003 E. Brier Drive\, San Bernardino\, CA\, 92408\, United States
CATEGORIES:AIA Inland California,AIA Los Angeles,Architecture Event  ,CEU,Chapter Program,Educational Facility,Health Care Design,HSW,Industry Professionals,Sustainability,Sustainable Design,Tour
ATTACH;FMTTYPE=image/jpeg:https://aiaic.org/wp-content/uploads/2025/04/SAC-Health.jpg
END:VEVENT
END:VCALENDAR