BEGIN:VCALENDAR
VERSION:2.0
PRODID:-//AIA-IC - ECPv6.15.20//NONSGML v1.0//EN
CALSCALE:GREGORIAN
METHOD:PUBLISH
X-WR-CALNAME:AIA-IC
X-ORIGINAL-URL:https://aiaic.org
X-WR-CALDESC:Events for AIA-IC
REFRESH-INTERVAL;VALUE=DURATION:PT1H
X-Robots-Tag:noindex
X-PUBLISHED-TTL:PT1H
BEGIN:VTIMEZONE
TZID:America/Los_Angeles
BEGIN:DAYLIGHT
TZOFFSETFROM:-0800
TZOFFSETTO:-0700
TZNAME:PDT
DTSTART:20240310T100000
END:DAYLIGHT
BEGIN:STANDARD
TZOFFSETFROM:-0700
TZOFFSETTO:-0800
TZNAME:PST
DTSTART:20241103T090000
END:STANDARD
BEGIN:DAYLIGHT
TZOFFSETFROM:-0800
TZOFFSETTO:-0700
TZNAME:PDT
DTSTART:20250309T100000
END:DAYLIGHT
BEGIN:STANDARD
TZOFFSETFROM:-0700
TZOFFSETTO:-0800
TZNAME:PST
DTSTART:20251102T090000
END:STANDARD
BEGIN:DAYLIGHT
TZOFFSETFROM:-0800
TZOFFSETTO:-0700
TZNAME:PDT
DTSTART:20260308T100000
END:DAYLIGHT
BEGIN:STANDARD
TZOFFSETFROM:-0700
TZOFFSETTO:-0800
TZNAME:PST
DTSTART:20261101T090000
END:STANDARD
END:VTIMEZONE
BEGIN:VEVENT
DTSTART;TZID=America/Los_Angeles:20251008T180000
DTEND;TZID=America/Los_Angeles:20251008T220000
DTSTAMP:20260421T223740
CREATED:20250917T190022Z
LAST-MODIFIED:20250917T190128Z
UID:14859-1759946400-1759960800@aiaic.org
SUMMARY:2025 Archtoberfest
DESCRIPTION:Enjoy great company\, delicious bites\, and the chance to mingle with fellow AIAIC Members and Allied Professionals. \nWe’ll also hold our Annual Meeting\, including the vote on the 2026 Slate of Officers—an important part of shaping the year ahead. You won’t want to miss it! \nEvent hosted by: Higginson Architects Incorporated \n \n 
URL:https://aiaic.org/event/2025-archtoberfest/
LOCATION:Escape Craft Brewery\, 440 Oriental Ave\, Redlands\, CA\, 92374\, United States
CATEGORIES:AIA California,AIA California Desert Chapter,AIA Inland California,Annual Meeting,Event,Executive Committee Installation,Industry Professionals,Meeting,Networking Event ,Social Program
ATTACH;FMTTYPE=image/png:https://aiaic.org/wp-content/uploads/2025/09/Archtoberfest-Invitation-Instagram-Post-45.png
ORGANIZER;CN="AIA Inland California":MAILTO:director@aiaic.org
END:VEVENT
END:VCALENDAR