BEGIN:VCALENDAR
VERSION:2.0
PRODID:-//AIA-IC - ECPv6.15.20//NONSGML v1.0//EN
CALSCALE:GREGORIAN
METHOD:PUBLISH
X-ORIGINAL-URL:https://aiaic.org
X-WR-CALDESC:Events for AIA-IC
REFRESH-INTERVAL;VALUE=DURATION:PT1H
X-Robots-Tag:noindex
X-PUBLISHED-TTL:PT1H
BEGIN:VTIMEZONE
TZID:America/Los_Angeles
BEGIN:DAYLIGHT
TZOFFSETFROM:-0800
TZOFFSETTO:-0700
TZNAME:PDT
DTSTART:20240310T100000
END:DAYLIGHT
BEGIN:STANDARD
TZOFFSETFROM:-0700
TZOFFSETTO:-0800
TZNAME:PST
DTSTART:20241103T090000
END:STANDARD
BEGIN:DAYLIGHT
TZOFFSETFROM:-0800
TZOFFSETTO:-0700
TZNAME:PDT
DTSTART:20250309T100000
END:DAYLIGHT
BEGIN:STANDARD
TZOFFSETFROM:-0700
TZOFFSETTO:-0800
TZNAME:PST
DTSTART:20251102T090000
END:STANDARD
BEGIN:DAYLIGHT
TZOFFSETFROM:-0800
TZOFFSETTO:-0700
TZNAME:PDT
DTSTART:20260308T100000
END:DAYLIGHT
BEGIN:STANDARD
TZOFFSETFROM:-0700
TZOFFSETTO:-0800
TZNAME:PST
DTSTART:20261101T090000
END:STANDARD
END:VTIMEZONE
BEGIN:VEVENT
DTSTART;TZID=America/Los_Angeles:20250430T153000
DTEND;TZID=America/Los_Angeles:20250430T173000
DTSTAMP:20260421T131436
CREATED:20250412T145245Z
LAST-MODIFIED:20250412T145245Z
UID:14750-1746027000-1746034200@aiaic.org
SUMMARY:Robert Day Sciences Center Construction Site Tour
DESCRIPTION:Join us for a behind-the-scenes look at one of Southern California’s most anticipated and architecturally striking projects: the Robert Day Sciences Center at Claremont McKenna College\, designed by the internationally acclaimed Bjarke Ingels Group (BIG).
URL:https://aiaic.org/event/robert-day-sciences-center-construction-site-tour/
LOCATION:CA
CATEGORIES:AIA California,Architecture Event  ,Chapter Program,Construction Site Tour,Educational Facility,Industry Professionals,Sustainable Design
ATTACH;FMTTYPE=image/png:https://aiaic.org/wp-content/uploads/2025/04/CMC-BIG-Site-Tour-Instagram.png
END:VEVENT
BEGIN:VEVENT
DTSTART;TZID=America/Los_Angeles:20250419T100000
DTEND;TZID=America/Los_Angeles:20250419T120000
DTSTAMP:20260421T131436
CREATED:20250415T152158Z
LAST-MODIFIED:20250415T152307Z
UID:14753-1745056800-1745064000@aiaic.org
SUMMARY:SAC Health Brier Campus Tour
DESCRIPTION:       \nIn collaboration with AIA Los Angeles\, AIA Inland California is pleased to offer this event which offers AIA CES: 2LU|HSW \nSAC Health Brier Medical is a 280\,000 SF adaptive reuse outpatient facility in San Bernardino\, CA. As the nation’s largest specialty-based and teaching health center\, it advances health equity for underserved populations. Phase 1 includes 6 clinics\, dental school\, after-hours clinic with imaging\, and a community resource center. The project reused the former bank call center’s core systems to reduce its carbon footprint. AIA CES: 2 LU|HSW. Topics: adaptive reuse\, sustainability\, health equity\, and design for specialty teaching institutions.
URL:https://aiaic.org/event/sac-health-brier-campus-tour/
LOCATION:SAC Health Brier Campus Tour\, 1003 E. Brier Drive\, San Bernardino\, CA\, 92408\, United States
CATEGORIES:AIA Inland California,AIA Los Angeles,Architecture Event  ,CEU,Chapter Program,Educational Facility,Health Care Design,HSW,Industry Professionals,Sustainability,Sustainable Design,Tour
ATTACH;FMTTYPE=image/jpeg:https://aiaic.org/wp-content/uploads/2025/04/SAC-Health.jpg
END:VEVENT
BEGIN:VEVENT
DTSTART;TZID=America/Los_Angeles:20250417T180000
DTEND;TZID=America/Los_Angeles:20250417T200000
DTSTAMP:20260421T131436
CREATED:20250410T185157Z
LAST-MODIFIED:20250410T185157Z
UID:14703-1744912800-1744920000@aiaic.org
SUMMARY:Focus on Architectural Photography
DESCRIPTION:Explore how architects and photographers capture the built environment in a dynamic panel discussion with industry experts. Enjoy 15 minutes of networking\, refreshments\, and a free professional headshot to update your portfolio! \nBonus fun! We’re moving our no-host Thirsty Thursday Happy Hour to right after the program on April 17th to the Yard House\, 3775 Tyler St\, Riverside\, CA 92503.
URL:https://aiaic.org/event/focus-on-architecural-photography/
LOCATION:California Baptist University – Architecture Program\, 3739 Adams Street\, Riverside\, CA\, 92504\, United States
CATEGORIES:AIA California,Architectural Photography,Architecture Event  ,Chapter Program,Industry Professionals
ATTACH;FMTTYPE=image/jpeg:https://aiaic.org/wp-content/uploads/2023/12/2023-Second-Place-1698431831-Gin_City-scaled.jpg
END:VEVENT
BEGIN:VEVENT
DTSTART;TZID=America/Los_Angeles:20250220T163000
DTEND;TZID=America/Los_Angeles:20250220T200000
DTSTAMP:20260421T131436
CREATED:20250124T224620Z
LAST-MODIFIED:20250124T224719Z
UID:14585-1740069000-1740081600@aiaic.org
SUMMARY:Modernism Week Event
DESCRIPTION:
URL:https://aiaic.org/event/modernism-week-event/
LOCATION:House Of Tomorrow\, 1350 Ladera Circle\, Palm Springs\, 92262\, United States
CATEGORIES:AIA California Desert Chapter,AIA Inland California,Architecture and Design Center ,Architecture Event  ,Design Enthusiasts,House of Tomorrow  ,Mid-century Modern,Modern Architecture,Modernism Week  ,Networking Event ,Palm Springs  
ATTACH;FMTTYPE=image/jpeg:https://aiaic.org/wp-content/uploads/2025/01/modernism-feature.jpg
END:VEVENT
END:VCALENDAR