BEGIN:VCALENDAR
VERSION:2.0
PRODID:-//AIA-IC - ECPv6.15.20//NONSGML v1.0//EN
CALSCALE:GREGORIAN
METHOD:PUBLISH
X-ORIGINAL-URL:https://aiaic.org
X-WR-CALDESC:Events for AIA-IC
REFRESH-INTERVAL;VALUE=DURATION:PT1H
X-Robots-Tag:noindex
X-PUBLISHED-TTL:PT1H
BEGIN:VTIMEZONE
TZID:America/Los_Angeles
BEGIN:DAYLIGHT
TZOFFSETFROM:-0800
TZOFFSETTO:-0700
TZNAME:PDT
DTSTART:20200308T100000
END:DAYLIGHT
BEGIN:STANDARD
TZOFFSETFROM:-0700
TZOFFSETTO:-0800
TZNAME:PST
DTSTART:20201101T090000
END:STANDARD
BEGIN:DAYLIGHT
TZOFFSETFROM:-0800
TZOFFSETTO:-0700
TZNAME:PDT
DTSTART:20210314T100000
END:DAYLIGHT
BEGIN:STANDARD
TZOFFSETFROM:-0700
TZOFFSETTO:-0800
TZNAME:PST
DTSTART:20211107T090000
END:STANDARD
BEGIN:DAYLIGHT
TZOFFSETFROM:-0800
TZOFFSETTO:-0700
TZNAME:PDT
DTSTART:20220313T100000
END:DAYLIGHT
BEGIN:STANDARD
TZOFFSETFROM:-0700
TZOFFSETTO:-0800
TZNAME:PST
DTSTART:20221106T090000
END:STANDARD
END:VTIMEZONE
BEGIN:VEVENT
DTSTART;TZID=America/Los_Angeles:20210318T173000
DTEND;TZID=America/Los_Angeles:20210318T183000
DTSTAMP:20260422T150428
CREATED:20210301T215815Z
LAST-MODIFIED:20210315T184002Z
UID:12249-1616088600-1616092200@aiaic.org
SUMMARY:EPIC Program: Happy Hour –  Ice Breaker/Who is testing?
DESCRIPTION:Zoom Meeting and more information to follow.
URL:https://aiaic.org/event/epic-program-happy-hour-ice-breaker-who-is-testing/
CATEGORIES:AEP,ARE
ATTACH;FMTTYPE=image/jpeg:https://aiaic.org/wp-content/uploads/2021/03/EPIC_Licensing-Happy-Hour-Invitation-01.jpg
END:VEVENT
END:VCALENDAR