BEGIN:VCALENDAR
VERSION:2.0
PRODID:-//AIA-IC - ECPv6.15.20//NONSGML v1.0//EN
CALSCALE:GREGORIAN
METHOD:PUBLISH
X-ORIGINAL-URL:https://aiaic.org
X-WR-CALDESC:Events for AIA-IC
REFRESH-INTERVAL;VALUE=DURATION:PT1H
X-Robots-Tag:noindex
X-PUBLISHED-TTL:PT1H
BEGIN:VTIMEZONE
TZID:America/Los_Angeles
BEGIN:DAYLIGHT
TZOFFSETFROM:-0800
TZOFFSETTO:-0700
TZNAME:PDT
DTSTART:20230312T100000
END:DAYLIGHT
BEGIN:STANDARD
TZOFFSETFROM:-0700
TZOFFSETTO:-0800
TZNAME:PST
DTSTART:20231105T090000
END:STANDARD
BEGIN:DAYLIGHT
TZOFFSETFROM:-0800
TZOFFSETTO:-0700
TZNAME:PDT
DTSTART:20240310T100000
END:DAYLIGHT
BEGIN:STANDARD
TZOFFSETFROM:-0700
TZOFFSETTO:-0800
TZNAME:PST
DTSTART:20241103T090000
END:STANDARD
BEGIN:DAYLIGHT
TZOFFSETFROM:-0800
TZOFFSETTO:-0700
TZNAME:PDT
DTSTART:20250309T100000
END:DAYLIGHT
BEGIN:STANDARD
TZOFFSETFROM:-0700
TZOFFSETTO:-0800
TZNAME:PST
DTSTART:20251102T090000
END:STANDARD
BEGIN:DAYLIGHT
TZOFFSETFROM:-0800
TZOFFSETTO:-0700
TZNAME:PDT
DTSTART:20260308T100000
END:DAYLIGHT
BEGIN:STANDARD
TZOFFSETFROM:-0700
TZOFFSETTO:-0800
TZNAME:PST
DTSTART:20261101T090000
END:STANDARD
END:VTIMEZONE
BEGIN:VEVENT
DTSTART;TZID=America/Los_Angeles:20250827T100000
DTEND;TZID=America/Los_Angeles:20250828T150000
DTSTAMP:20260422T084850
CREATED:20250814T154505Z
LAST-MODIFIED:20250814T154505Z
UID:14825-1756288800-1756393200@aiaic.org
SUMMARY:AIAIC at Build EXPO
DESCRIPTION:AIA Inland California is excited to be part of the Los Angeles Build Expo\, the region’s premier building and construction show. This event brings together thousands of buyers from the industry’s top companies\, offering unparalleled networking and learning opportunities. Be sure to visit us at Booth #139 to discover the resources\, programs\, and connections that AIA Inland California has to offer.
URL:https://aiaic.org/event/aiaic-at-build-expo/
LOCATION:Los Angeles Convention Center\, 1201 S Figueroa Street\, Los Angeles\, 90015\, United States
CATEGORIES:AIA Inland California,Commercial Architecture,Community,Event,Industry Standards,Networking Event ,Physics of Sound,Psychoacoustics
ATTACH;FMTTYPE=image/png:https://aiaic.org/wp-content/uploads/2025/08/BuildExpo_LOGO_small-Copy.png
END:VEVENT
BEGIN:VEVENT
DTSTART;TZID=America/Los_Angeles:20240411T170000
DTEND;TZID=America/Los_Angeles:20240411T200000
DTSTAMP:20260422T084850
CREATED:20240119T184154Z
LAST-MODIFIED:20240304T172338Z
UID:13869-1712854800-1712865600@aiaic.org
SUMMARY:2024 Producers Council EXPO and Social
DESCRIPTION:5:00-8:00pm Thursday\, April 11\, 2024 \nWe are excited to co-host the April program with Producers Council of Southern California at Curries/Assa Abloy in Ontario! This will be an expo event with numerous products on display\, a tour of the manufacturing site and materials\, and a lot of fun around food and beverages. Please register and bring a colleague! \n5:00 – 6:30 Trade Show/Exhibits\n5:00  First Tour\n5:30  Second Tour\n6:00 – 6:30  Dinner\n6:30 – 7:30  Specialty Door Openings  (1.0  HSW LU)\nRegistration is open now.
URL:https://aiaic.org/event/2024-producers-council-expo-and-social/
LOCATION:ASSA ABLOY\, 5678 Concours ST\, Ontario\, CA\, 91764\, United States
CATEGORIES:AEP,AIA,CEU,Chapter Program,Commercial Architecture,HSW,Industry Professionals,LU,Residential Architecture,Social Program,Sustainability,Sustainable Design,Tour
ATTACH;FMTTYPE=image/jpeg:https://aiaic.org/wp-content/uploads/2023/01/aia-event2-e1705690288223.jpg
END:VEVENT
BEGIN:VEVENT
DTSTART;TZID=America/Los_Angeles:20240117T180000
DTEND;TZID=America/Los_Angeles:20240117T200000
DTSTAMP:20260422T084850
CREATED:20231219T184051Z
LAST-MODIFIED:20231223T164011Z
UID:13810-1705514400-1705521600@aiaic.org
SUMMARY:Shark Repellant 2: In the Doghouse\, Challenges of a Design Build Project
DESCRIPTION:Description:\nDiscuss a case study on an architects difficulties and tribulations with a design build project that put them in the doghouse\, quite literally as you will hear. As always\, David will be answering our questions and concerns related to risk mitigation and protecting the interests of our practices. This is an excellent opportunity for emerging professionals as well as seasoned practitioners. Come enjoy a meal together and some great fellowship. \nREGISTER
URL:https://aiaic.org/event/in-the-doghouse-challenges-of-a-design-build-project/
LOCATION:TBD
CATEGORIES:AIA,Business of Architecture,CEU,Chapter Program,Commercial Architecture,HSW
ATTACH;FMTTYPE=image/jpeg:https://aiaic.org/wp-content/uploads/2023/01/Inspiration-vs-Infringement-Architectural-Copyrights.jpg
ORGANIZER;CN="AIA Inland California":MAILTO:director@aiaic.org
END:VEVENT
END:VCALENDAR