BEGIN:VCALENDAR
VERSION:2.0
PRODID:-//AIA-IC - ECPv6.15.20//NONSGML v1.0//EN
CALSCALE:GREGORIAN
METHOD:PUBLISH
X-ORIGINAL-URL:https://aiaic.org
X-WR-CALDESC:Events for AIA-IC
REFRESH-INTERVAL;VALUE=DURATION:PT1H
X-Robots-Tag:noindex
X-PUBLISHED-TTL:PT1H
BEGIN:VTIMEZONE
TZID:America/Los_Angeles
BEGIN:DAYLIGHT
TZOFFSETFROM:-0800
TZOFFSETTO:-0700
TZNAME:PDT
DTSTART:20240310T100000
END:DAYLIGHT
BEGIN:STANDARD
TZOFFSETFROM:-0700
TZOFFSETTO:-0800
TZNAME:PST
DTSTART:20241103T090000
END:STANDARD
BEGIN:DAYLIGHT
TZOFFSETFROM:-0800
TZOFFSETTO:-0700
TZNAME:PDT
DTSTART:20250309T100000
END:DAYLIGHT
BEGIN:STANDARD
TZOFFSETFROM:-0700
TZOFFSETTO:-0800
TZNAME:PST
DTSTART:20251102T090000
END:STANDARD
BEGIN:DAYLIGHT
TZOFFSETFROM:-0800
TZOFFSETTO:-0700
TZNAME:PDT
DTSTART:20260308T100000
END:DAYLIGHT
BEGIN:STANDARD
TZOFFSETFROM:-0700
TZOFFSETTO:-0800
TZNAME:PST
DTSTART:20261101T090000
END:STANDARD
END:VTIMEZONE
BEGIN:VEVENT
DTSTART;TZID=America/Los_Angeles:20250815T173000
DTEND;TZID=America/Los_Angeles:20250915T000000
DTSTAMP:20260421T130624
CREATED:20250816T172025Z
LAST-MODIFIED:20250816T172535Z
UID:14831-1755279000-1757894400@aiaic.org
SUMMARY:2025 Student Design Awards
DESCRIPTION:Clare Henry Day\, FAIA \nAIAIC 2025 Student Design Awards \nSponsored by a generous grant from the HMC Architects Designing Futures Foundation is open for new submissions. \nCurrent students and 2025 graduates from regional programs: CPP\, CBU\, MSJC\, SBVC\, and COD are eligible to apply. Projects must have been completed during the 2024-2025 academic year. \n 
URL:https://aiaic.org/event/https-ogo6yidl2oa-typeform-com-to-ohc9r3as/
LOCATION:Virtual
CATEGORIES:AIA California,AIA Inland California,Design Awards,Student Design Awards
ATTACH;FMTTYPE=image/png:https://aiaic.org/wp-content/uploads/2025/08/2025-Student-Design-Awards-01-01-scaled.png
ORGANIZER;CN="AIA Inland California":MAILTO:director@aiaic.org
END:VEVENT
END:VCALENDAR