BEGIN:VCALENDAR
VERSION:2.0
PRODID:-//AIA-IC - ECPv6.15.20//NONSGML v1.0//EN
CALSCALE:GREGORIAN
METHOD:PUBLISH
X-WR-CALNAME:AIA-IC
X-ORIGINAL-URL:https://aiaic.org
X-WR-CALDESC:Events for AIA-IC
REFRESH-INTERVAL;VALUE=DURATION:PT1H
X-Robots-Tag:noindex
X-PUBLISHED-TTL:PT1H
BEGIN:VTIMEZONE
TZID:America/Los_Angeles
BEGIN:DAYLIGHT
TZOFFSETFROM:-0800
TZOFFSETTO:-0700
TZNAME:PDT
DTSTART:20240310T100000
END:DAYLIGHT
BEGIN:STANDARD
TZOFFSETFROM:-0700
TZOFFSETTO:-0800
TZNAME:PST
DTSTART:20241103T090000
END:STANDARD
BEGIN:DAYLIGHT
TZOFFSETFROM:-0800
TZOFFSETTO:-0700
TZNAME:PDT
DTSTART:20250309T100000
END:DAYLIGHT
BEGIN:STANDARD
TZOFFSETFROM:-0700
TZOFFSETTO:-0800
TZNAME:PST
DTSTART:20251102T090000
END:STANDARD
BEGIN:DAYLIGHT
TZOFFSETFROM:-0800
TZOFFSETTO:-0700
TZNAME:PDT
DTSTART:20260308T100000
END:DAYLIGHT
BEGIN:STANDARD
TZOFFSETFROM:-0700
TZOFFSETTO:-0800
TZNAME:PST
DTSTART:20261101T090000
END:STANDARD
END:VTIMEZONE
BEGIN:VEVENT
DTSTART;TZID=America/Los_Angeles:20251210T180000
DTEND;TZID=America/Los_Angeles:20251210T210000
DTSTAMP:20260421T192604
CREATED:20250917T144913Z
LAST-MODIFIED:20251117T175314Z
UID:14854-1765389600-1765400400@aiaic.org
SUMMARY:2025 Holiday Party
DESCRIPTION:Join us for an unforgettable evening at a beautiful venue\, a festive dinner\, lively entertainment\, and inspiring speakers as we come together to celebrate. \nThe evening will also feature: \n\nPresentation of the 2025 Architectural Photography Competition Awards\nInstallation of the 2026 AIAIC Board of Directors\n\nTickets on sale now through December 8th\, 2025. \n \n 
URL:https://aiaic.org/event/holiday-party-2/
LOCATION:Loft 84\, 3840 Lemon Street\, Riverside\, CA\, 92504\, United States
CATEGORIES:AIA California,AIA Inland California,Annual Meeting,Chapter Program,Event,Executive Committee Installation,Industry Standards,Photography Awards,Social Program
ATTACH;FMTTYPE=image/png:https://aiaic.org/wp-content/uploads/2025/09/Flyer-Proudly-Presents-Instagram-Post-45.png
ORGANIZER;CN="AIA Inland California":MAILTO:director@aiaic.org
END:VEVENT
END:VCALENDAR