BEGIN:VCALENDAR
VERSION:2.0
PRODID:-//AIA-IC - ECPv6.15.20//NONSGML v1.0//EN
CALSCALE:GREGORIAN
METHOD:PUBLISH
X-ORIGINAL-URL:https://aiaic.org
X-WR-CALDESC:Events for AIA-IC
REFRESH-INTERVAL;VALUE=DURATION:PT1H
X-Robots-Tag:noindex
X-PUBLISHED-TTL:PT1H
BEGIN:VTIMEZONE
TZID:America/Los_Angeles
BEGIN:DAYLIGHT
TZOFFSETFROM:-0800
TZOFFSETTO:-0700
TZNAME:PDT
DTSTART:20220313T100000
END:DAYLIGHT
BEGIN:STANDARD
TZOFFSETFROM:-0700
TZOFFSETTO:-0800
TZNAME:PST
DTSTART:20221106T090000
END:STANDARD
BEGIN:DAYLIGHT
TZOFFSETFROM:-0800
TZOFFSETTO:-0700
TZNAME:PDT
DTSTART:20230312T100000
END:DAYLIGHT
BEGIN:STANDARD
TZOFFSETFROM:-0700
TZOFFSETTO:-0800
TZNAME:PST
DTSTART:20231105T090000
END:STANDARD
BEGIN:DAYLIGHT
TZOFFSETFROM:-0800
TZOFFSETTO:-0700
TZNAME:PDT
DTSTART:20240310T100000
END:DAYLIGHT
BEGIN:STANDARD
TZOFFSETFROM:-0700
TZOFFSETTO:-0800
TZNAME:PST
DTSTART:20241103T090000
END:STANDARD
BEGIN:DAYLIGHT
TZOFFSETFROM:-0800
TZOFFSETTO:-0700
TZNAME:PDT
DTSTART:20250309T100000
END:DAYLIGHT
BEGIN:STANDARD
TZOFFSETFROM:-0700
TZOFFSETTO:-0800
TZNAME:PST
DTSTART:20251102T090000
END:STANDARD
END:VTIMEZONE
BEGIN:VEVENT
DTSTART;TZID=America/Los_Angeles:20241211T180000
DTEND;TZID=America/Los_Angeles:20241211T210000
DTSTAMP:20260421T133632
CREATED:20241106T205637Z
LAST-MODIFIED:20241106T205810Z
UID:14500-1733940000-1733950800@aiaic.org
SUMMARY:Holiday Party and Photography Awards Celebration
DESCRIPTION:Please join us for our annual AIA Inland California Holiday Party and Photography Awards – An evening to Celebrate\, Connect\, and Be Inspired!
URL:https://aiaic.org/event/holiday-party-and-photography-awards-celebration/
LOCATION:The Mitten Building\, 345 N. 5th street\, redlands\, CA\, 92374\, United States
CATEGORIES:AIA California,Executive Committee Installation,Holiday Party,Photography Awards
ATTACH;FMTTYPE=image/gif:https://aiaic.org/wp-content/uploads/2024/12/Holiday-24-thumb.gif
ORGANIZER;CN="AIA Inland California":MAILTO:director@aiaic.org
END:VEVENT
BEGIN:VEVENT
DTSTART;TZID=America/Los_Angeles:20231213T180000
DTEND;TZID=America/Los_Angeles:20231213T210000
DTSTAMP:20260421T133632
CREATED:20231117T202347Z
LAST-MODIFIED:20231117T202527Z
UID:13790-1702490400-1702501200@aiaic.org
SUMMARY:Holiday Party
DESCRIPTION:Holiday Party/Installation Ceremony/Photography Competition Awards! Dec 13 | 6-9pm | Loft 84\, Riverside \nThe annual holiday party is going to be a fun experience together in a historic venue\, Loft 84 in Riverside! The night will begin with a fine dinner by Chef Dave’s\, we will hear from a panel about housing advocacy efforts in the Inland region\, celebrate the winning entries from the annual Architectural Photography Competition\, acknowledge newly licensed architects in our chapter\, and conclude with the installation of the 2024 Executive Committee. There will be a cool holiday-themed photo-booth option for attendees. A walk over to Mission Inn for the post-party to see the Festival of Lights will make this evening special for everyone. Sign up quickly\, we expect to sell out soon.
URL:https://aiaic.org/event/holiday-party/
LOCATION:Loft 84\, 3840 Lemon Street\, Riverside\, CA\, 92504\, United States
CATEGORIES:AIA,Community,Holiday Party
ATTACH;FMTTYPE=image/jpeg:https://aiaic.org/wp-content/uploads/2023/11/AIAIC-Holiday-Party-2023-2.jpg
ORGANIZER;CN="AIA Inland California":MAILTO:director@aiaic.org
END:VEVENT
END:VCALENDAR