BEGIN:VCALENDAR
VERSION:2.0
PRODID:-//AIA-IC - ECPv6.15.20//NONSGML v1.0//EN
CALSCALE:GREGORIAN
METHOD:PUBLISH
X-ORIGINAL-URL:https://aiaic.org
X-WR-CALDESC:Events for AIA-IC
REFRESH-INTERVAL;VALUE=DURATION:PT1H
X-Robots-Tag:noindex
X-PUBLISHED-TTL:PT1H
BEGIN:VTIMEZONE
TZID:America/Los_Angeles
BEGIN:DAYLIGHT
TZOFFSETFROM:-0800
TZOFFSETTO:-0700
TZNAME:PDT
DTSTART:20240310T100000
END:DAYLIGHT
BEGIN:STANDARD
TZOFFSETFROM:-0700
TZOFFSETTO:-0800
TZNAME:PST
DTSTART:20241103T090000
END:STANDARD
BEGIN:DAYLIGHT
TZOFFSETFROM:-0800
TZOFFSETTO:-0700
TZNAME:PDT
DTSTART:20250309T100000
END:DAYLIGHT
BEGIN:STANDARD
TZOFFSETFROM:-0700
TZOFFSETTO:-0800
TZNAME:PST
DTSTART:20251102T090000
END:STANDARD
BEGIN:DAYLIGHT
TZOFFSETFROM:-0800
TZOFFSETTO:-0700
TZNAME:PDT
DTSTART:20260308T100000
END:DAYLIGHT
BEGIN:STANDARD
TZOFFSETFROM:-0700
TZOFFSETTO:-0800
TZNAME:PST
DTSTART:20261101T090000
END:STANDARD
END:VTIMEZONE
BEGIN:VEVENT
DTSTART;TZID=America/Los_Angeles:20251030T180000
DTEND;TZID=America/Los_Angeles:20251030T203000
DTSTAMP:20260422T151546
CREATED:20251030T135137Z
LAST-MODIFIED:20251030T135137Z
UID:14877-1761847200-1761856200@aiaic.org
SUMMARY:EPIC Thirsty Thursday
DESCRIPTION:Join us for our monthly no-host EPIC Thirsty Thursday. October 30th at 6:00 PM at J. Riley Distillery in Redlands. This month\, we’re partnering with SoCal NOMA to bring you an extra special evening of networking\, connection\, and great conversation. \n \n 
URL:https://aiaic.org/event/epic-thirsty-thursday/
LOCATION:J. Riley Distillery\, 420 Oriental Avenue\, Redlands\, CA\, 92374\, United States
CATEGORIES:AIA California,AIA California Desert Chapter,AIA Inland California,Annual Meeting,EPIC,Event,Industry Professionals,Meeting,Networking Event ,Social Program
ATTACH;FMTTYPE=image/png:https://aiaic.org/wp-content/uploads/2025/10/OCT.-30-J-RILEY-DISTILLERY-1080-x-1080-px.png
ORGANIZER;CN="AIA Inland California":MAILTO:director@aiaic.org
END:VEVENT
END:VCALENDAR