BEGIN:VCALENDAR
VERSION:2.0
PRODID:-//AIA-IC - ECPv6.15.20//NONSGML v1.0//EN
CALSCALE:GREGORIAN
METHOD:PUBLISH
X-WR-CALNAME:AIA-IC
X-ORIGINAL-URL:https://aiaic.org
X-WR-CALDESC:Events for AIA-IC
REFRESH-INTERVAL;VALUE=DURATION:PT1H
X-Robots-Tag:noindex
X-PUBLISHED-TTL:PT1H
BEGIN:VTIMEZONE
TZID:America/Los_Angeles
BEGIN:DAYLIGHT
TZOFFSETFROM:-0800
TZOFFSETTO:-0700
TZNAME:PDT
DTSTART:20240310T100000
END:DAYLIGHT
BEGIN:STANDARD
TZOFFSETFROM:-0700
TZOFFSETTO:-0800
TZNAME:PST
DTSTART:20241103T090000
END:STANDARD
BEGIN:DAYLIGHT
TZOFFSETFROM:-0800
TZOFFSETTO:-0700
TZNAME:PDT
DTSTART:20250309T100000
END:DAYLIGHT
BEGIN:STANDARD
TZOFFSETFROM:-0700
TZOFFSETTO:-0800
TZNAME:PST
DTSTART:20251102T090000
END:STANDARD
BEGIN:DAYLIGHT
TZOFFSETFROM:-0800
TZOFFSETTO:-0700
TZNAME:PDT
DTSTART:20260308T100000
END:DAYLIGHT
BEGIN:STANDARD
TZOFFSETFROM:-0700
TZOFFSETTO:-0800
TZNAME:PST
DTSTART:20261101T090000
END:STANDARD
END:VTIMEZONE
BEGIN:VEVENT
DTSTART;TZID=America/Los_Angeles:20250820T173000
DTEND;TZID=America/Los_Angeles:20250820T200000
DTSTAMP:20260422T003537
CREATED:20250626T152659Z
LAST-MODIFIED:20250626T153518Z
UID:14806-1755711000-1755720000@aiaic.org
SUMMARY:An EPIC Night at the Ballpark
DESCRIPTION:  \n \nYou’re invited to an EPIC evening of connection and community! \nJoin AIA Inland California for a dynamic social mixer and membership drive at the iconic San Manuel Stadium in San Bernardino—hosted in tandem with the 66ers AEC Night! \nMingle with AIAIC’s emerging professionals\, seasoned architects\, and valued allied members in a fun\, relaxed setting. Our private gathering kicks off at 5:30 PM on the 1st base patio\, where you’ll enjoy a classic ballpark buffet\, great company\, and unforgettable views of the game. \nDon’t miss this chance to expand your network and be part of something EPIC!
URL:https://aiaic.org/event/aiaic-past-presidents-legacy-luncheon-2/
LOCATION:San Manuel Stadium\, 280 South E Street\, San Bernardino\, CA\, 92401\, United States
CATEGORIES:AIA California,Chapter Program,Industry Professionals,Meeting,Networking Event 
ATTACH;FMTTYPE=image/jpeg:https://aiaic.org/wp-content/uploads/2025/06/IMG_9265-scaled.jpeg
ORGANIZER;CN="AIA Inland California":MAILTO:director@aiaic.org
END:VEVENT
END:VCALENDAR