BEGIN:VCALENDAR
VERSION:2.0
PRODID:-//AIA-IC - ECPv6.15.20//NONSGML v1.0//EN
CALSCALE:GREGORIAN
METHOD:PUBLISH
X-WR-CALNAME:AIA-IC
X-ORIGINAL-URL:https://aiaic.org
X-WR-CALDESC:Events for AIA-IC
REFRESH-INTERVAL;VALUE=DURATION:PT1H
X-Robots-Tag:noindex
X-PUBLISHED-TTL:PT1H
BEGIN:VTIMEZONE
TZID:America/Los_Angeles
BEGIN:DAYLIGHT
TZOFFSETFROM:-0800
TZOFFSETTO:-0700
TZNAME:PDT
DTSTART:20240310T100000
END:DAYLIGHT
BEGIN:STANDARD
TZOFFSETFROM:-0700
TZOFFSETTO:-0800
TZNAME:PST
DTSTART:20241103T090000
END:STANDARD
BEGIN:DAYLIGHT
TZOFFSETFROM:-0800
TZOFFSETTO:-0700
TZNAME:PDT
DTSTART:20250309T100000
END:DAYLIGHT
BEGIN:STANDARD
TZOFFSETFROM:-0700
TZOFFSETTO:-0800
TZNAME:PST
DTSTART:20251102T090000
END:STANDARD
BEGIN:DAYLIGHT
TZOFFSETFROM:-0800
TZOFFSETTO:-0700
TZNAME:PDT
DTSTART:20260308T100000
END:DAYLIGHT
BEGIN:STANDARD
TZOFFSETFROM:-0700
TZOFFSETTO:-0800
TZNAME:PST
DTSTART:20261101T090000
END:STANDARD
END:VTIMEZONE
BEGIN:VEVENT
DTSTART;TZID=America/Los_Angeles:20250115T180000
DTEND;TZID=America/Los_Angeles:20250115T200000
DTSTAMP:20260422T102107
CREATED:20250104T221547Z
LAST-MODIFIED:20250107T212351Z
UID:14570-1736964000-1736971200@aiaic.org
SUMMARY:Design and Contract Tips in a Changing Environment
DESCRIPTION:David E. Barker\, Attorney at Collins & Collins\, LLP\, will provide key insights for design professionals navigating today’s dynamic industry. Topics include essential contract requirements\, high-risk clauses\, legal provisions\, and negotiation strategies. He’ll cover tips on selecting clients\, projects\, and sub-consultants\, as well as best practices for the CA phase\, including RFI and change order management. Don’t miss this opportunity to enhance your understanding of public and private contracts. (2 LUs) \nNew: We will be offering a virtual option for $10.00\, click on the event webite link to register. \nThis talk will include a wine & cheese pairing social hour.
URL:https://aiaic.org/event/design-and-contract-tips-in-a-changing-environment/
LOCATION:Higginson Architects\, 1177 Idaho Street\, Suite 200\, Redlands\, CA\, 92374\, United States
CATEGORIES:AIA California,Architecture Contracts,CEU,Client Selection,Contract Requirements,Legal Provisions,RFI Management
ATTACH;FMTTYPE=image/jpeg:https://aiaic.org/wp-content/uploads/2025/01/DAB-Bio-Pic-feature.jpg
END:VEVENT
END:VCALENDAR