BEGIN:VCALENDAR
VERSION:2.0
PRODID:-//AIA-IC - ECPv6.15.20//NONSGML v1.0//EN
CALSCALE:GREGORIAN
METHOD:PUBLISH
X-WR-CALNAME:AIA-IC
X-ORIGINAL-URL:https://aiaic.org
X-WR-CALDESC:Events for AIA-IC
REFRESH-INTERVAL;VALUE=DURATION:PT1H
X-Robots-Tag:noindex
X-PUBLISHED-TTL:PT1H
BEGIN:VTIMEZONE
TZID:America/Los_Angeles
BEGIN:DAYLIGHT
TZOFFSETFROM:-0800
TZOFFSETTO:-0700
TZNAME:PDT
DTSTART:20230312T100000
END:DAYLIGHT
BEGIN:STANDARD
TZOFFSETFROM:-0700
TZOFFSETTO:-0800
TZNAME:PST
DTSTART:20231105T090000
END:STANDARD
BEGIN:DAYLIGHT
TZOFFSETFROM:-0800
TZOFFSETTO:-0700
TZNAME:PDT
DTSTART:20240310T100000
END:DAYLIGHT
BEGIN:STANDARD
TZOFFSETFROM:-0700
TZOFFSETTO:-0800
TZNAME:PST
DTSTART:20241103T090000
END:STANDARD
BEGIN:DAYLIGHT
TZOFFSETFROM:-0800
TZOFFSETTO:-0700
TZNAME:PDT
DTSTART:20250309T100000
END:DAYLIGHT
BEGIN:STANDARD
TZOFFSETFROM:-0700
TZOFFSETTO:-0800
TZNAME:PST
DTSTART:20251102T090000
END:STANDARD
END:VTIMEZONE
BEGIN:VEVENT
DTSTART;VALUE=DATE:20240917
DTEND;VALUE=DATE:20240919
DTSTAMP:20260422T081227
CREATED:20240712T152848Z
LAST-MODIFIED:20240712T152848Z
UID:14298-1726531200-1726703999@aiaic.org
SUMMARY:Net Zero Conference
DESCRIPTION:We are a proud partner of the 2024 Net Zero Conference! Hosted by Verdical Group\, this event will bring together experts in climate\, net zero\, ESG\, equity\, carbon\, and resilience on 9/17 + 9/18 in Anaheim\, CA.\nJoin us for zero carbon learning opportunities\, exciting keynotes\, an in-person Expo\, building tours\, the Trailblazer Awards Gala\, and more. Visit https://hubs.li/Q02zVvZq0 to register and use code NZMP15 for 15% off.
URL:https://aiaic.org/event/net-zero-conference/
CATEGORIES:AEP,AIA,Business of Architecture,CEU,HSW,Industry Professionals,Sustainability,Sustainable Design,Title 24,USGBC
ATTACH;FMTTYPE=image/png:https://aiaic.org/wp-content/uploads/2024/07/NZ24-Social-Graphic-Square.png
END:VEVENT
END:VCALENDAR